BEGIN:VCALENDAR
VERSION:2.0
PRODID:-//Underground Railroad Education Center - ECPv6.15.20//NONSGML v1.0//EN
CALSCALE:GREGORIAN
METHOD:PUBLISH
X-WR-CALNAME:Underground Railroad Education Center
X-ORIGINAL-URL:https://undergroundrailroadhistory.org
X-WR-CALDESC:Events for Underground Railroad Education Center
REFRESH-INTERVAL;VALUE=DURATION:PT1H
X-Robots-Tag:noindex
X-PUBLISHED-TTL:PT1H
BEGIN:VTIMEZONE
TZID:America/New_York
BEGIN:DAYLIGHT
TZOFFSETFROM:-0500
TZOFFSETTO:-0400
TZNAME:EDT
DTSTART:20250309T070000
END:DAYLIGHT
BEGIN:STANDARD
TZOFFSETFROM:-0400
TZOFFSETTO:-0500
TZNAME:EST
DTSTART:20251102T060000
END:STANDARD
BEGIN:DAYLIGHT
TZOFFSETFROM:-0500
TZOFFSETTO:-0400
TZNAME:EDT
DTSTART:20260308T070000
END:DAYLIGHT
BEGIN:STANDARD
TZOFFSETFROM:-0400
TZOFFSETTO:-0500
TZNAME:EST
DTSTART:20261101T060000
END:STANDARD
BEGIN:DAYLIGHT
TZOFFSETFROM:-0500
TZOFFSETTO:-0400
TZNAME:EDT
DTSTART:20270314T070000
END:DAYLIGHT
BEGIN:STANDARD
TZOFFSETFROM:-0400
TZOFFSETTO:-0500
TZNAME:EST
DTSTART:20271107T060000
END:STANDARD
END:VTIMEZONE
BEGIN:VTIMEZONE
TZID:UTC
BEGIN:STANDARD
TZOFFSETFROM:+0000
TZOFFSETTO:+0000
TZNAME:UTC
DTSTART:20250101T000000
END:STANDARD
END:VTIMEZONE
BEGIN:VEVENT
DTSTART;TZID=America/New_York:20260327T100000
DTEND;TZID=America/New_York:20260430T180000
DTSTAMP:20260421T070244
CREATED:20260327T210610Z
LAST-MODIFIED:20260327T212109Z
UID:5215-1774605600-1777572000@undergroundrailroadhistory.org
SUMMARY:Working the Waters: Black Mariners on the Hudson River 1800s
DESCRIPTION:Our Black Experience Exhibit Series features stories that illuminate Black history in the Capital Region and beyond. Designed to travel\, the pop-up exhibits move from one community space to the next\, ensuring Black history remains visible and accessible. The series aims to inform and inspire\, connecting audiences with forgotten narratives that reshape how history is understood today.\n\nOur first exhibit Working the Waters explores the lives and labor of Black men and women who worked on ships\, built communities\, and navigated freedom. The exhibit invites visitors to re-imagine life on the Hudson River and the histories that unfolded upon it.\n\nWorking the Waters is on view now through April 30th at the Pine Hills Library Branch: https://www.albanypubliclibrary.org/locations/pine-hills/)
URL:https://undergroundrailroadhistory.org/event/working-the-waters-black-mariners-on-the-hudson-river-1800s/
LOCATION:Pine Hill Library\, 517 Western Avenue\, Albany\, NY\, 12203
END:VEVENT
BEGIN:VEVENT
DTSTART;TZID=UTC:20260421T173000
DTEND;TZID=UTC:20260421T190000
DTSTAMP:20260421T070244
CREATED:20220417T204430Z
LAST-MODIFIED:20260320T230935Z
UID:2419-1776792600-1776798000@undergroundrailroadhistory.org
SUMMARY:UREC Board Meeting
DESCRIPTION:Monthly URHPCR Board Meetings are open to the public. Pay us a visit. Listen in on the discussions that inform implementation of the mission-based vision of UREC. Board meetings are hybrid. \nPlease contact Mary Liz Stewart\, Executive Director\, to inform her of your intent to attend. Directions will be provided for accessing the Zoom meeting. \nMary Liz Stewart – (518) 621-7793 or https://undergroundrailroadhistory.org/contact/ \nThis will be a hybrid meeting — in-person at The Myers Residence and via Zoom. \n 
URL:https://undergroundrailroadhistory.org/event/urec-board-meeting-2/
LOCATION:The Stephen and Harriet Myers Residence\, 194 Livingston Avenue\, Albany\, NY\, 12210\, United States
END:VEVENT
END:VCALENDAR